BEGIN:VCALENDAR
VERSION:2.0
PRODID:-//Kulvio Event Calendar//kulvio.de//
CALSCALE:GREGORIAN
METHOD:PUBLISH
BEGIN:VEVENT
SUMMARY:Gudes Pizza & Peroni
DTSTART:20260725T110000Z
DTEND:20260725T200000Z
DTSTAMP:20260421T035123Z
UID:kulvio-event-3276@kulvio.de
CATEGORIES:Food-Festival,Afterwork
CREATED:20260420T165427Z
DESCRIPTION:Das Gudes an der Friedberger Landstraße lädt zur hochsommerl
 ichen Pizza & Peroni Ausgabe ein. Am beliebten Frankfurter Wasserhäuschen
  im Nordend gibt es frische Pizza und kühles Peroni-Bier in geselliger At
 mosphäre. Die Veranstaltung gehört zur Gudes-Sommerreihe\, die das ganze
  Jahr über für Nachbarschaft und Gäste ein abwechslungsreiches Programm
  bietet. Der Abend ist ideal für einen entspannten Sommerabend im Freien.
GEO:50.125961;8.691164
LAST-MODIFIED:20260420T165930Z
LOCATION:Gudes\, Friedberger Landstraße 107\, 60318\, Frankfurt am Main
STATUS:CONFIRMED
URL:https://kulvio.de/event/3276
END:VEVENT
END:VCALENDAR
