BEGIN:VCALENDAR
VERSION:2.0
PRODID:-//Kulvio Event Calendar//kulvio.de//
CALSCALE:GREGORIAN
METHOD:PUBLISH
BEGIN:VEVENT
SUMMARY:Rummelfest Open Air
DTSTART:20260801T120000Z
DTEND:20260801T130000Z
DTSTAMP:20260421T084537Z
UID:kulvio-event-3277@kulvio.de
CATEGORIES:Festival,Party,Open-Air
CREATED:20260420T165427Z
DESCRIPTION:Das Rummelfest Open Air verwandelt die Kommune 2010 in Offenba
 ch in einen handgemachten Jahrmarkt mit Musikbühnen. Auf individuell gest
 alteten Bühnen spielen verschiedene Acts\, dazu gibt es Attraktionen wie 
 ein Riesenrad\, Hochseilbalance und eine Schminkstation. Die Kommune 2010 
 an der Sprendlinger Landstraße bietet mit ihrem Freigelände eine ideale 
 Kulisse für das unkonventionelle Open-Air-Festival. Beginn ist um 14 Uhr.
GEO:50.083797;8.744558
LAST-MODIFIED:20260420T165930Z
LOCATION:Kommune 2010\, Sprendlinger Landstraße 181\, 63065\, Offenbach a
 m Main
STATUS:CONFIRMED
URL:https://kulvio.de/event/3277
END:VEVENT
END:VCALENDAR
