BEGIN:VCALENDAR
VERSION:2.0
PRODID:-//Kulvio Event Calendar//kulvio.de//
CALSCALE:GREGORIAN
METHOD:PUBLISH
BEGIN:VEVENT
SUMMARY:Gudes Burger & Beats
DTSTART:20260815T110000Z
DTEND:20260815T200000Z
DTSTAMP:20260421T042819Z
UID:kulvio-event-3278@kulvio.de
CATEGORIES:Food-Festival,Party
CREATED:20260420T165427Z
DESCRIPTION:Beim letzten Burger & Beats der Saison am Gudes Wasserhäusche
 n gibt es noch einmal Street Food und Musik unter freiem Himmel. An der Fr
 iedberger Landstraße im Nordend werden saftige Burger serviert\, während
  DJs für die passende Stimmung sorgen. Die Veranstaltung ist der Abschlus
 s der beliebten Gudes-Sommerreihe. Der Abend eignet sich für alle\, die d
 en Sommer am Wasserhäuschen ausklingen lassen wollen.
GEO:50.125961;8.691164
LAST-MODIFIED:20260420T165930Z
LOCATION:Gudes\, Friedberger Landstraße 107\, 60318\, Frankfurt am Main
STATUS:CONFIRMED
URL:https://kulvio.de/event/3278
END:VEVENT
END:VCALENDAR
