BEGIN:VCALENDAR
VERSION:2.0
PRODID:-//Kulvio Event Calendar//kulvio.de//
CALSCALE:GREGORIAN
METHOD:PUBLISH
BEGIN:VEVENT
SUMMARY:Golden Leaves Festival 2026
DTSTART:20260823T120000Z
DTEND:20260823T210000Z
DTSTAMP:20260421T041935Z
UID:kulvio-event-3280@kulvio.de
CATEGORIES:Festival,Konzert,Open-Air
CREATED:20260420T165427Z
DESCRIPTION:Das Golden Leaves Festival am Steinbrücker Teich in Darmstadt
  vereint Indie\, Rock und Pop an zwei Tagen unter freiem Himmel. Das Lineu
 p 2026 umfasst unter anderem Agnes Obel\, Noga Erez\, MINE\, Kat Frankie\,
  Holly Humberstone und HVOB. Der Veranstaltungsort im Grünen bietet eine 
 besondere Festival-Atmosphäre abseits der Großstadt. Türöffnung ist um
  12 Uhr\, das Musikprogramm beginnt um 14 Uhr.
GEO:49.900849;8.734772
LAST-MODIFIED:20260420T165930Z
LOCATION:Steinbrücker Teich\, Dieburger Straße 259\, 64287\, Darmstadt
STATUS:CONFIRMED
URL:https://kulvio.de/event/3280
END:VEVENT
END:VCALENDAR
