BEGIN:VCALENDAR
VERSION:2.0
PRODID:-//Kulvio Event Calendar//kulvio.de//
CALSCALE:GREGORIAN
METHOD:PUBLISH
BEGIN:VEVENT
SUMMARY:Gudes Pizza & Peroni
DTSTART:20260822T110000Z
DTEND:20260822T200000Z
DTSTAMP:20260421T034610Z
UID:kulvio-event-3281@kulvio.de
CATEGORIES:Food-Festival,Afterwork
CREATED:20260420T165427Z
DESCRIPTION:Das Gudes an der Friedberger Landstraße lädt zur letzten Piz
 za & Peroni Ausgabe des Sommers ein. Am beliebten Frankfurter Wasserhäusc
 hen im Nordend gibt es frische Pizza und kühles Peroni-Bier in geselliger
  Atmosphäre. Die Veranstaltung bildet den Abschluss der Pizza & Peroni Re
 ihe im Sommer 2026. Der Abend eignet sich für alle\, die den Spätsommer 
 am Wasserhäuschen genießen möchten.
GEO:50.125961;8.691164
LAST-MODIFIED:20260420T165930Z
LOCATION:Gudes\, Friedberger Landstraße 107\, 60318\, Frankfurt am Main
STATUS:CONFIRMED
URL:https://kulvio.de/event/3281
END:VEVENT
END:VCALENDAR
