BEGIN:VCALENDAR
VERSION:2.0
PRODID:-//Kulvio Event Calendar//kulvio.de//
CALSCALE:GREGORIAN
METHOD:PUBLISH
BEGIN:VEVENT
SUMMARY:Gudes Sommerfest
DTSTART:20260829T110000Z
DTEND:20260829T200000Z
DTSTAMP:20260421T083628Z
UID:kulvio-event-3282@kulvio.de
CATEGORIES:Festival,Party,Open-Air
CREATED:20260420T165427Z
DESCRIPTION:Das Gudes Sommerfest bildet den großen Saisonabschluss am Fra
 nkfurter Wasserhäuschen an der Friedberger Landstraße. Das Event bringt 
 Musik\, Essen und Drinks zusammen und lädt die Nachbarschaft im Nordend z
 um gemeinsamen Feiern ein. Als Höhepunkt der Friends & Feste Reihe bietet
  das Sommerfest den perfekten Rahmen\, um den Sommer am Gudes ausklingen z
 u lassen. Alle Gäste sind herzlich willkommen.
GEO:50.125961;8.691164
LAST-MODIFIED:20260420T165930Z
LOCATION:Gudes\, Friedberger Landstraße 107\, 60318\, Frankfurt am Main
STATUS:CONFIRMED
URL:https://kulvio.de/event/3282
END:VEVENT
END:VCALENDAR
