BEGIN:VCALENDAR
VERSION:2.0
PRODID:-//Kulvio Event Calendar//kulvio.de//
CALSCALE:GREGORIAN
METHOD:PUBLISH
BEGIN:VEVENT
SUMMARY:Salsa Night im Wohnzimmer
DTSTART:20260421T193000Z
DTEND:20260421T203000Z
DTSTAMP:20260421T034741Z
UID:kulvio-event-3283@kulvio.de
CATEGORIES:Tanzkurs,Party
CREATED:20260420T165427Z
DESCRIPTION:Das Wohnzimmer in Wiesbaden lädt zur Salsa Night mit DJ TomX 
 ein. Der Abend bietet lateinamerikanische Rhythmen von Salsa über Kizomba
  bis Bachata in gemütlicher Atmosphäre. Das Wohnzimmer an der Schwalbach
 er Straße ist bekannt für seine regelmäßigen Tanzabende und internatio
 nalen Events. Tanzbegeisterte aller Niveaus sind herzlich willkommen\, den
  Abend auf der Tanzfläche zu verbringen.
GEO:50.082126;8.236423
LAST-MODIFIED:20260420T165930Z
LOCATION:Das Wohnzimmer\, Schwalbacher Straße 51a\, 65183\, Wiesbaden
STATUS:CONFIRMED
URL:https://kulvio.de/event/3283
END:VEVENT
END:VCALENDAR
