BEGIN:VCALENDAR
VERSION:2.0
PRODID:-//Kulvio Event Calendar//kulvio.de//
CALSCALE:GREGORIAN
METHOD:PUBLISH
BEGIN:VEVENT
SUMMARY:Handkuss Comedy Show
DTSTART:20260422T180000Z
DTEND:20260422T190000Z
DTSTAMP:20260421T084538Z
UID:kulvio-event-3284@kulvio.de
CATEGORIES:Comedy
CREATED:20260420T165427Z
DESCRIPTION:Die Handkuss Comedy Show gastiert im Wohnzimmer Wiesbaden und 
 bringt Stand-Up-Comedy auf die Bühne der Schwalbacher Straße. Der Abend 
 verspricht humorvolle Unterhaltung mit wechselnden Comedians in der intime
 n Atmosphäre des Wohnzimmers. Die Veranstaltungsreihe Handkuss Comedy ist
  für ihre kurzweiligen und abwechslungsreichen Programme bekannt. Der Abe
 nd eignet sich für alle\, die einen unterhaltsamen Mittwoch in Wiesbaden 
 verbringen möchten.
GEO:50.082126;8.236423
LAST-MODIFIED:20260420T165930Z
LOCATION:Das Wohnzimmer\, Schwalbacher Straße 51a\, 65183\, Wiesbaden
STATUS:CONFIRMED
URL:https://kulvio.de/event/3284
END:VEVENT
END:VCALENDAR
