BEGIN:VCALENDAR
VERSION:2.0
PRODID:-//Kulvio Event Calendar//kulvio.de//
CALSCALE:GREGORIAN
METHOD:PUBLISH
BEGIN:VEVENT
SUMMARY:Bram van Langen Konzert
DTSTART:20260423T180000Z
DTEND:20260423T190000Z
DTSTAMP:20260421T034610Z
UID:kulvio-event-3285@kulvio.de
CATEGORIES:Konzert
CREATED:20260420T165427Z
DESCRIPTION:Der Musiker Bram van Langen gibt ein Live-Konzert im Wohnzimme
 r Wiesbaden. In der intimen Atmosphäre des Lokals an der Schwalbacher Str
 aße erwartet die Gäste ein Abend mit handgemachter Musik. Das Wohnzimmer
  bietet mit seiner Bühne regelmäßig Raum für Live-Acts und Konzerte ve
 rschiedener Genres. Der Abend richtet sich an Musikliebhaber\, die Livemus
 ik hautnah erleben möchten.
GEO:50.082126;8.236423
LAST-MODIFIED:20260420T165930Z
LOCATION:Das Wohnzimmer\, Schwalbacher Straße 51a\, 65183\, Wiesbaden
STATUS:CONFIRMED
URL:https://kulvio.de/event/3285
END:VEVENT
END:VCALENDAR
