BEGIN:VCALENDAR
VERSION:2.0
PRODID:-//Kulvio Event Calendar//kulvio.de//
CALSCALE:GREGORIAN
METHOD:PUBLISH
BEGIN:VEVENT
SUMMARY:La Noche Latina — Cali Sabor & Friends
DTSTART:20260424T203000Z
DTEND:20260424T213000Z
DTSTAMP:20260421T042121Z
UID:kulvio-event-3286@kulvio.de
CATEGORIES:Club,Party,Tanz
CREATED:20260420T165427Z
DESCRIPTION:La Noche Latina verwandelt das Wohnzimmer Wiesbaden in einen l
 ateinamerikanischen Tanzclub. DJ Cali Sabor und Freunde legen Salsa\, Regg
 aeton\, Bachata und weitere Latin-Sounds auf. Der Abend beginnt um 22:30 U
 hr und bietet eine temperamentvolle Clubnacht in der gemütlichen Kulisse 
 des Wohnzimmers an der Schwalbacher Straße. Alle Freunde lateinamerikanis
 cher Musik und Tanzkultur sind eingeladen.
GEO:50.082126;8.236423
LAST-MODIFIED:20260420T165930Z
LOCATION:Das Wohnzimmer\, Schwalbacher Straße 51a\, 65183\, Wiesbaden
STATUS:CONFIRMED
URL:https://kulvio.de/event/3286
END:VEVENT
END:VCALENDAR
