BEGIN:VCALENDAR
VERSION:2.0
PRODID:-//Kulvio Event Calendar//kulvio.de//
CALSCALE:GREGORIAN
METHOD:PUBLISH
BEGIN:VEVENT
SUMMARY:Red & Green Flag Party — DJ Scar
DTSTART:20260425T200000Z
DTEND:20260426T020000Z
DTSTAMP:20260421T042432Z
UID:kulvio-event-3287@kulvio.de
CATEGORIES:Club,Party
CREATED:20260420T165427Z
DESCRIPTION:Die Red & Green Flag Party bringt DJ Scar hinter die Decks im 
 Wohnzimmer Wiesbaden. Von 22 Uhr bis in die frühen Morgenstunden legt DJ 
 Scar aktuelle und klassische Clubtracks auf. Das Konzept der Red & Green F
 lag Party verbindet Partyatmosphäre mit spielerischen Elementen und sorgt
  für einen abwechslungsreichen Samstagabend. Das Wohnzimmer an der Schwal
 bacher Straße bietet dafür eine passende Club-Atmosphäre.
GEO:50.082126;8.236423
LAST-MODIFIED:20260420T165930Z
LOCATION:Das Wohnzimmer\, Schwalbacher Straße 51a\, 65183\, Wiesbaden
STATUS:CONFIRMED
URL:https://kulvio.de/event/3287
END:VEVENT
END:VCALENDAR
