BEGIN:VCALENDAR
VERSION:2.0
PRODID:-//Kulvio Event Calendar//kulvio.de//
CALSCALE:GREGORIAN
METHOD:PUBLISH
BEGIN:VEVENT
SUMMARY:Salsa Night im Wohnzimmer
DTSTART:20260428T193000Z
DTEND:20260428T203000Z
DTSTAMP:20260421T034733Z
UID:kulvio-event-3288@kulvio.de
CATEGORIES:Tanzkurs,Party
CREATED:20260420T165427Z
DESCRIPTION:Das Wohnzimmer in Wiesbaden lädt erneut zur Salsa Night mit D
 J TomX ein. Der Dienstagabend bietet lateinamerikanische Rhythmen von Sals
 a über Kizomba bis Bachata in gemütlicher Atmosphäre. Das Wohnzimmer an
  der Schwalbacher Straße verbindet Restaurant\, Bar und Tanzfläche zu ei
 nem vielseitigen Ausgehort. Tanzbegeisterte aller Erfahrungsstufen sind he
 rzlich willkommen.
GEO:50.082126;8.236423
LAST-MODIFIED:20260420T165930Z
LOCATION:Das Wohnzimmer\, Schwalbacher Straße 51a\, 65183\, Wiesbaden
STATUS:CONFIRMED
URL:https://kulvio.de/event/3288
END:VEVENT
END:VCALENDAR
