BEGIN:VCALENDAR
VERSION:2.0
PRODID:-//Kulvio Event Calendar//kulvio.de//
CALSCALE:GREGORIAN
METHOD:PUBLISH
BEGIN:VEVENT
SUMMARY:Art Spritz im Wohnzimmer
DTSTART:20260429T170000Z
DTEND:20260429T180000Z
DTSTAMP:20260421T042435Z
UID:kulvio-event-3289@kulvio.de
CATEGORIES:Workshop,Hobby
CREATED:20260420T165427Z
DESCRIPTION:Beim Art Spritz im Wohnzimmer Wiesbaden wird kreatives Malen m
 it einem Spritz-Cocktail verbunden. Die Teilnehmenden erhalten eine Leinwa
 nd und einen Begrüßungs-Spritz\, weitere Spritz-Cocktails gibt es für 5
 \,50 Euro. Der Abend bietet eine lockere Atmosphäre zum kreativen Arbeite
 n und geselligen Austausch in den Räumlichkeiten an der Schwalbacher Stra
 ße. Die Teilnahme kostet 12 Euro inklusive Material und Willkommensgeträ
 nk.
GEO:50.082126;8.236423
LAST-MODIFIED:20260420T165930Z
LOCATION:Das Wohnzimmer\, Schwalbacher Straße 51a\, 65183\, Wiesbaden
STATUS:CONFIRMED
URL:https://kulvio.de/event/3289
END:VEVENT
END:VCALENDAR
