BEGIN:VCALENDAR
VERSION:2.0
PRODID:-//Kulvio Event Calendar//kulvio.de//
CALSCALE:GREGORIAN
METHOD:PUBLISH
BEGIN:VEVENT
SUMMARY:Tanz in den Mai im Wohnzimmer
DTSTART:20260430T200000Z
DTEND:20260501T020000Z
DTSTAMP:20260421T111835Z
UID:kulvio-event-3290@kulvio.de
CATEGORIES:Party,Club,Tanz
CREATED:20260420T165427Z
DESCRIPTION:Das Wohnzimmer Wiesbaden feiert den Tanz in den Mai mit DJ Che
 rie & Friends. Ab 22 Uhr wird auf der Tanzfläche in der Schwalbacher Stra
 ße der Frühling begrüßt und bis in die frühen Morgenstunden getanzt. 
 Der Tanz in den Mai ist eine der beliebtesten Traditionen in Deutschland u
 nd das Wohnzimmer bietet dafür eine stimmungsvolle Kulisse. Die Party geh
 t bis 4 Uhr morgens.
GEO:50.082126;8.236423
LAST-MODIFIED:20260420T165930Z
LOCATION:Das Wohnzimmer\, Schwalbacher Straße 51a\, 65183\, Wiesbaden
STATUS:CONFIRMED
URL:https://kulvio.de/event/3290
END:VEVENT
END:VCALENDAR
