BEGIN:VCALENDAR
VERSION:2.0
PRODID:-//Kulvio Event Calendar//kulvio.de//
CALSCALE:GREGORIAN
METHOD:PUBLISH
BEGIN:VEVENT
SUMMARY:Notte Italiana im Wohnzimmer
DTSTART:20260501T140000Z
DTEND:20260501T150000Z
DTSTAMP:20260421T042118Z
UID:kulvio-event-3291@kulvio.de
CATEGORIES:Konzert,International
CREATED:20260420T165427Z
DESCRIPTION:Die Notte Italiana bringt italienisches Flair ins Wohnzimmer W
 iesbaden. Ab 16 Uhr sorgen Emira und Uichio mit Live-Musik für mediterran
 e Stimmung in der Schwalbacher Straße. Der Nachmittag und Abend verbindet
  italienische Lebensart mit musikalischer Unterhaltung in gemütlicher Atm
 osphäre. Das Wohnzimmer bietet dazu passende Speisen und Getränke im ita
 lienischen Stil.
GEO:50.082126;8.236423
LAST-MODIFIED:20260420T165930Z
LOCATION:Das Wohnzimmer\, Schwalbacher Straße 51a\, 65183\, Wiesbaden
STATUS:CONFIRMED
URL:https://kulvio.de/event/3291
END:VEVENT
END:VCALENDAR
