BEGIN:VCALENDAR
VERSION:2.0
PRODID:-//Kulvio Event Calendar//kulvio.de//
CALSCALE:GREGORIAN
METHOD:PUBLISH
BEGIN:VEVENT
SUMMARY:Club Night — DJ Kenny
DTSTART:20260502T210000Z
DTEND:20260502T220000Z
DTSTAMP:20260421T042947Z
UID:kulvio-event-3292@kulvio.de
CATEGORIES:Club,Party
CREATED:20260420T165427Z
DESCRIPTION:DJ Kenny legt bei der Club Night im Wohnzimmer Wiesbaden auf. 
 Ab 23 Uhr verwandelt sich das Lokal in der Schwalbacher Straße in einen C
 lub mit Tanzfläche und guter Musik. Die regelmäßigen Club Nights gehör
 en zum festen Programm des Wohnzimmers und ziehen ein tanzfreudiges Publik
 um an. Der Samstagabend eignet sich für alle\, die das Wochenende mit ein
 er ausgelassenen Party ausklingen lassen möchten.
GEO:50.082126;8.236423
LAST-MODIFIED:20260420T165930Z
LOCATION:Das Wohnzimmer\, Schwalbacher Straße 51a\, 65183\, Wiesbaden
STATUS:CONFIRMED
URL:https://kulvio.de/event/3292
END:VEVENT
END:VCALENDAR
