BEGIN:VCALENDAR
VERSION:2.0
PRODID:-//Kulvio Event Calendar//kulvio.de//
CALSCALE:GREGORIAN
METHOD:PUBLISH
BEGIN:VEVENT
SUMMARY:Torsten Goods & Band – Soul Deep Tour 2026
DTSTART:20260422T180000Z
DTEND:20260422T210000Z
DTSTAMP:20260423T022536Z
UID:kulvio-event-3293@kulvio.de
CATEGORIES:Konzert
CREATED:20260422T083523Z
DESCRIPTION:Der Sänger und Gitarrist Torsten Goods gastiert mit seiner Ba
 nd im Colos-Saal Aschaffenburg. Im Rahmen der Soul Deep Tour 2026 präsent
 iert er eine Mischung aus Jazz\, Soul und Blues. Der gebürtige Aschaffenb
 urger zählt zu den bekanntesten deutschen Jazzmusikern und verbindet virt
 uoses Gitarrenspiel mit warmem Gesang. Einlass ist ab 19:00 Uhr\, Tickets 
 sind im Vorverkauf und an der Abendkasse erhältlich.
GEO:49.97585;9.149222
LAST-MODIFIED:20260422T083647Z
LOCATION:Colos-Saal\, Roßmarkt 19\, 63739\, Aschaffenburg
STATUS:CONFIRMED
URL:https://kulvio.de/event/3293
END:VEVENT
END:VCALENDAR
