BEGIN:VCALENDAR
VERSION:2.0
PRODID:-//Kulvio Event Calendar//kulvio.de//
CALSCALE:GREGORIAN
METHOD:PUBLISH
BEGIN:VEVENT
SUMMARY:Funky Times im Colos-Saal
DTSTART:20260423T180000Z
DTEND:20260423T210000Z
DTSTAMP:20260423T022849Z
UID:kulvio-event-3294@kulvio.de
CATEGORIES:Konzert
CREATED:20260422T083523Z
DESCRIPTION:Die Formation Funky Times bringt handgemachte Funk-Musik mit G
 roove und Anspruch auf die Bühne des Colos-Saal Aschaffenburg. Die Band v
 erbindet klassischen Funk mit modernen Einflüssen und sorgt für einen en
 ergiegeladenen Abend. Der Colos-Saal in der Aschaffenburger Innenstadt bie
 tet dafür den passenden Rahmen mit direktem Kontakt zwischen Publikum und
  Musikern.
GEO:49.97585;9.149222
LAST-MODIFIED:20260422T083647Z
LOCATION:Colos-Saal\, Roßmarkt 19\, 63739\, Aschaffenburg
STATUS:CONFIRMED
URL:https://kulvio.de/event/3294
END:VEVENT
END:VCALENDAR
