BEGIN:VCALENDAR
VERSION:2.0
PRODID:-//Kulvio Event Calendar//kulvio.de//
CALSCALE:GREGORIAN
METHOD:PUBLISH
BEGIN:VEVENT
SUMMARY:Black Sabbitch – All-Female Black Sabbath Tribute
DTSTART:20260424T180000Z
DTEND:20260424T210000Z
DTSTAMP:20260423T030105Z
UID:kulvio-event-3295@kulvio.de
CATEGORIES:Konzert
CREATED:20260422T083523Z
DESCRIPTION:Die rein weiblich besetzte Tribute-Band Black Sabbitch widmet 
 sich dem Werk von Black Sabbath und spielt im Colos-Saal Aschaffenburg. Di
 e Band ist bekannt dafür\, die schweren Riffs und die düstere Atmosphär
 e des Originals authentisch auf die Bühne zu bringen. Fans von Classic Ro
 ck und Hardrock kommen bei diesem Konzert in der intimen Club-Atmosphäre 
 des Colos-Saal auf ihre Kosten.
GEO:49.97585;9.149222
LAST-MODIFIED:20260422T083647Z
LOCATION:Colos-Saal\, Roßmarkt 19\, 63739\, Aschaffenburg
STATUS:CONFIRMED
URL:https://kulvio.de/event/3295
END:VEVENT
END:VCALENDAR
