BEGIN:VCALENDAR
VERSION:2.0
PRODID:-//Kulvio Event Calendar//kulvio.de//
CALSCALE:GREGORIAN
METHOD:PUBLISH
BEGIN:VEVENT
SUMMARY:The Big Easy – Party im Colos-Saal
DTSTART:20260424T210000Z
DTEND:20260425T020000Z
DTSTAMP:20260423T022535Z
UID:kulvio-event-3296@kulvio.de
CATEGORIES:Party,Club
CREATED:20260422T083523Z
DESCRIPTION:The Big Easy ist die regelmäßige Partynacht im Colos-Saal As
 chaffenburg. Die Veranstaltung zählt zu den beliebtesten Club-Events der 
 Stadt und bietet eine Mischung aus verschiedenen Musikrichtungen zum Tanze
 n. Der späte Start um 23 Uhr macht den Abend ideal als Anschlussprogramm 
 nach anderen Veranstaltungen in der Aschaffenburger Innenstadt.
GEO:49.97585;9.149222
LAST-MODIFIED:20260422T083647Z
LOCATION:Colos-Saal\, Roßmarkt 19\, 63739\, Aschaffenburg
STATUS:CONFIRMED
URL:https://kulvio.de/event/3296
END:VEVENT
END:VCALENDAR
