BEGIN:VCALENDAR
VERSION:2.0
PRODID:-//Kulvio Event Calendar//kulvio.de//
CALSCALE:GREGORIAN
METHOD:PUBLISH
BEGIN:VEVENT
SUMMARY:Jess Jochimsen – Von allen guten Geistern
DTSTART:20260424T180000Z
DTEND:20260424T200000Z
DTSTAMP:20260423T030327Z
UID:kulvio-event-3297@kulvio.de
CATEGORIES:Kabarett
CREATED:20260422T083523Z
DESCRIPTION:Der Kabarettist und Autor Jess Jochimsen präsentiert sein Pro
 gramm Von allen guten Geistern im Hofgarten Kabarett Aschaffenburg. Jochim
 sen verbindet in seinen Auftritten pointierte Beobachtungen des Alltags mi
 t literarischem Anspruch und feinem Humor. Das Hofgarten Kabarett in der O
 rangerie bietet mit seinen rund 200 Plätzen den idealen Rahmen für einen
  unterhaltsamen Abend.
GEO:49.974838;9.154287
LAST-MODIFIED:20260422T083647Z
LOCATION:Hofgarten Kabarett\, Hofgartenstraße 1a\, 63739\, Aschaffenburg
STATUS:CONFIRMED
URL:https://kulvio.de/event/3297
END:VEVENT
END:VCALENDAR
