BEGIN:VCALENDAR
VERSION:2.0
PRODID:-//Kulvio Event Calendar//kulvio.de//
CALSCALE:GREGORIAN
METHOD:PUBLISH
BEGIN:VEVENT
SUMMARY:Gegenlicht – Die Songs von STS und anderen
DTSTART:20260425T180000Z
DTEND:20260425T210000Z
DTSTAMP:20260423T030316Z
UID:kulvio-event-3298@kulvio.de
CATEGORIES:Konzert
CREATED:20260422T083523Z
DESCRIPTION:Die Band Gegenlicht spielt im Colos-Saal Aschaffenburg handgem
 achte Musik mit Schwerpunkt auf den Songs der österreichischen Band STS. 
 Das Konzert ist Teil der regionalen Highlights im Programm des Colos-Saal 
 und richtet sich an Fans deutschsprachiger Liedermacher-Tradition. Die For
 mation interpretiert die bekannten Stücke auf ihre eigene Weise und ergä
 nzt sie um weitere Titel.
GEO:49.97585;9.149222
LAST-MODIFIED:20260422T083647Z
LOCATION:Colos-Saal\, Roßmarkt 19\, 63739\, Aschaffenburg
STATUS:CONFIRMED
URL:https://kulvio.de/event/3298
END:VEVENT
END:VCALENDAR
