BEGIN:VCALENDAR
VERSION:2.0
PRODID:-//Kulvio Event Calendar//kulvio.de//
CALSCALE:GREGORIAN
METHOD:PUBLISH
BEGIN:VEVENT
SUMMARY:C. Heiland – Wahre Schönheit kommt von außen
DTSTART:20260426T160000Z
DTEND:20260426T180000Z
DTSTAMP:20260423T025438Z
UID:kulvio-event-3299@kulvio.de
CATEGORIES:Kabarett
CREATED:20260422T083523Z
DESCRIPTION:Der Kabarettist C. Heiland gastiert mit seinem Programm Wahre 
 Schönheit kommt von außen im Hofgarten Kabarett Aschaffenburg. In seinem
  Soloprogramm nimmt er gesellschaftliche Schönheitsideale und den alltäg
 lichen Wahnsinn humorvoll aufs Korn. Das Hofgarten Kabarett in der histori
 schen Orangerie bietet eine intime Atmosphäre für den Abend.
GEO:49.974838;9.154287
LAST-MODIFIED:20260422T083647Z
LOCATION:Hofgarten Kabarett\, Hofgartenstraße 1a\, 63739\, Aschaffenburg
STATUS:CONFIRMED
URL:https://kulvio.de/event/3299
END:VEVENT
END:VCALENDAR
