BEGIN:VCALENDAR
VERSION:2.0
PRODID:-//Kulvio Event Calendar//kulvio.de//
CALSCALE:GREGORIAN
METHOD:PUBLISH
BEGIN:VEVENT
SUMMARY:ENGST – 10 Jahre Jubiläums-Tour
DTSTART:20260426T170000Z
DTEND:20260426T200000Z
DTSTAMP:20260423T022856Z
UID:kulvio-event-3300@kulvio.de
CATEGORIES:Konzert
CREATED:20260422T083523Z
DESCRIPTION:Die Berliner Punkrock-Band ENGST feiert ihr zehnjähriges Büh
 nenjubiläum mit einer Tour und macht dabei im Colos-Saal Aschaffenburg St
 ation. Als Support ist die Band Stakeout dabei. ENGST sind bekannt für en
 ergiegeladene Live-Shows und deutschsprachigen Punkrock mit eingängigen M
 elodien. Das Konzert beginnt bereits um 19 Uhr.
GEO:49.97585;9.149222
LAST-MODIFIED:20260422T083647Z
LOCATION:Colos-Saal\, Roßmarkt 19\, 63739\, Aschaffenburg
STATUS:CONFIRMED
URL:https://kulvio.de/event/3300
END:VEVENT
END:VCALENDAR
