BEGIN:VCALENDAR
VERSION:2.0
PRODID:-//Kulvio Event Calendar//kulvio.de//
CALSCALE:GREGORIAN
METHOD:PUBLISH
BEGIN:VEVENT
SUMMARY:One Moment In Time – The Whitney Houston Story
DTSTART:20260426T170000Z
DTEND:20260426T200000Z
DTSTAMP:20260423T025305Z
UID:kulvio-event-3301@kulvio.de
CATEGORIES:Show,Konzert
CREATED:20260422T083524Z
DESCRIPTION:Die Tribute-Show One Moment In Time widmet sich dem musikalisc
 hen Vermächtnis von Whitney Houston und gastiert in der Stadthalle am Sch
 loss Aschaffenburg. Mit Live-Band und aufwendiger Bühnenproduktion werden
  die größten Hits der Pop-Ikone wie I Will Always Love You und Greatest 
 Love of All dargeboten. Die Show richtet sich an alle Fans großer Pop- un
 d Soul-Stimmen.
GEO:49.976205;9.14419
LAST-MODIFIED:20260422T083647Z
LOCATION:Stadthalle am Schloss\, Schloßplatz 1\, 63739\, Aschaffenburg
STATUS:CONFIRMED
URL:https://kulvio.de/event/3301
END:VEVENT
END:VCALENDAR
