BEGIN:VCALENDAR
VERSION:2.0
PRODID:-//Kulvio Event Calendar//kulvio.de//
CALSCALE:GREGORIAN
METHOD:PUBLISH
BEGIN:VEVENT
SUMMARY:Schlager & Spaß mit Andy Borg und Gästen
DTSTART:20260427T160000Z
DTEND:20260427T190000Z
DTSTAMP:20260423T022846Z
UID:kulvio-event-3302@kulvio.de
CATEGORIES:Konzert,Show
CREATED:20260422T083524Z
DESCRIPTION:Der Schlagersänger und Moderator Andy Borg kommt mit seinem P
 rogramm Schlager und Spaß in die Stadthalle am Schloss Aschaffenburg. Zus
 ammen mit Gästen präsentiert er einen Abend voller bekannter Schlager-Hi
 ts und Unterhaltung. Andy Borg ist durch seine langjährige TV-Karriere un
 d Hits wie Adios Amor einem breiten Publikum bekannt. Die Veranstaltung be
 ginnt bereits um 18 Uhr.
GEO:49.976205;9.14419
LAST-MODIFIED:20260422T083647Z
LOCATION:Stadthalle am Schloss\, Schloßplatz 1\, 63739\, Aschaffenburg
STATUS:CONFIRMED
URL:https://kulvio.de/event/3302
END:VEVENT
END:VCALENDAR
