BEGIN:VCALENDAR
VERSION:2.0
PRODID:-//Kulvio Event Calendar//kulvio.de//
CALSCALE:GREGORIAN
METHOD:PUBLISH
BEGIN:VEVENT
SUMMARY:Skerryvore – 20th Anniversary Tour
DTSTART:20260428T180000Z
DTEND:20260428T210000Z
DTSTAMP:20260423T023151Z
UID:kulvio-event-3303@kulvio.de
CATEGORIES:Konzert
CREATED:20260422T083524Z
DESCRIPTION:Die schottische Band Skerryvore feiert ihr 20-jähriges Besteh
 en mit einer Europatour und gastiert im Colos-Saal Aschaffenburg. Die mehr
 fach ausgezeichnete Gruppe verbindet traditionelle keltische Musik mit Roc
 k und Pop und hat sich international einen Namen als mitreißende Live-Ban
 d gemacht. Fans von Folk-Rock und keltischer Musik erwartet ein energiegel
 adener Abend.
GEO:49.97585;9.149222
LAST-MODIFIED:20260422T083647Z
LOCATION:Colos-Saal\, Roßmarkt 19\, 63739\, Aschaffenburg
STATUS:CONFIRMED
URL:https://kulvio.de/event/3303
END:VEVENT
END:VCALENDAR
