BEGIN:VCALENDAR
VERSION:2.0
PRODID:-//Kulvio Event Calendar//kulvio.de//
CALSCALE:GREGORIAN
METHOD:PUBLISH
BEGIN:VEVENT
SUMMARY:Vonda Shepard – European Spring Tour 2026
DTSTART:20260429T180000Z
DTEND:20260429T203000Z
DTSTAMP:20260423T030106Z
UID:kulvio-event-3304@kulvio.de
CATEGORIES:Konzert
CREATED:20260422T083524Z
DESCRIPTION:Die amerikanische Singer-Songwriterin Vonda Shepard tritt im S
 tadttheater Aschaffenburg auf. Shepard wurde durch die TV-Serie Ally McBea
 l international bekannt und hat seitdem zahlreiche Alben veröffentlicht. 
 Im Rahmen ihrer European Spring Tour 2026 präsentiert sie Songs aus ihrer
  gesamten Karriere. Das Konzert wird vom Colos-Saal veranstaltet und finde
 t im größeren Stadttheater statt.
GEO:49.976205;9.14419
LAST-MODIFIED:20260422T083647Z
LOCATION:Stadthalle am Schloss\, Schloßplatz 1\, 63739\, Aschaffenburg
STATUS:CONFIRMED
URL:https://kulvio.de/event/3304
END:VEVENT
END:VCALENDAR
