BEGIN:VCALENDAR
VERSION:2.0
PRODID:-//Kulvio Event Calendar//kulvio.de//
CALSCALE:GREGORIAN
METHOD:PUBLISH
BEGIN:VEVENT
SUMMARY:Die 2 Beiden – Bodo Bach & Johannes Scherer
DTSTART:20260429T173000Z
DTEND:20260429T200000Z
DTSTAMP:20260423T023151Z
UID:kulvio-event-3305@kulvio.de
CATEGORIES:Comedy
CREATED:20260422T083524Z
DESCRIPTION:Das Comedy-Duo Bodo Bach und Johannes Scherer tritt als Die 2 
 Beiden in der Stadthalle am Schloss Aschaffenburg auf. Beide Comedians sin
 d im Rhein-Main-Gebiet bestens bekannt und bringen mit ihrem gemeinsamen P
 rogramm eine Mischung aus Stand-up und Sketch-Comedy auf die Bühne. Der A
 bend verspricht hessischen Humor vom Feinsten.
GEO:49.976205;9.14419
LAST-MODIFIED:20260422T083647Z
LOCATION:Stadthalle am Schloss\, Schloßplatz 1\, 63739\, Aschaffenburg
STATUS:CONFIRMED
URL:https://kulvio.de/event/3305
END:VEVENT
END:VCALENDAR
