BEGIN:VCALENDAR
VERSION:2.0
PRODID:-//Kulvio Event Calendar//kulvio.de//
CALSCALE:GREGORIAN
METHOD:PUBLISH
BEGIN:VEVENT
SUMMARY:Spirit Of Soul – The Finest Of Black Music
DTSTART:20260430T180000Z
DTEND:20260430T210000Z
DTSTAMP:20260423T030028Z
UID:kulvio-event-3306@kulvio.de
CATEGORIES:Konzert
CREATED:20260422T083524Z
DESCRIPTION:Die Show Spirit Of Soul bringt die besten Songs der Black Musi
 c ins Colos-Saal Aschaffenburg. Von Motown-Klassikern bis zu modernen Soul
 -Hits deckt das Programm die gesamte Bandbreite schwarzer Musikgeschichte 
 ab. Die Formation aus talentierten Sängerinnen und Musikern sorgt für ei
 nen mitreißenden Abend voller Groove und Energie.
GEO:49.97585;9.149222
LAST-MODIFIED:20260422T083647Z
LOCATION:Colos-Saal\, Roßmarkt 19\, 63739\, Aschaffenburg
STATUS:CONFIRMED
URL:https://kulvio.de/event/3306
END:VEVENT
END:VCALENDAR
