BEGIN:VCALENDAR
VERSION:2.0
PRODID:-//Kulvio Event Calendar//kulvio.de//
CALSCALE:GREGORIAN
METHOD:PUBLISH
BEGIN:VEVENT
SUMMARY:Sven Garrecht – Kann man machen!
DTSTART:20260430T180000Z
DTEND:20260430T200000Z
DTSTAMP:20260423T022847Z
UID:kulvio-event-3307@kulvio.de
CATEGORIES:Comedy
CREATED:20260422T083524Z
DESCRIPTION:Der Comedian Sven Garrecht zeigt sein Programm Kann man machen
 ! im Hofgarten Kabarett Aschaffenburg. Garrecht nimmt die Absurditäten de
 s modernen Lebens aufs Korn und verbindet Alltagsbeobachtungen mit pointie
 rtem Humor. Das Hofgarten Kabarett bietet mit seiner intimen Atmosphäre u
 nd Platz für rund 200 Zuschauer den perfekten Rahmen für einen Comedy-Ab
 end.
GEO:49.974838;9.154287
LAST-MODIFIED:20260422T083647Z
LOCATION:Hofgarten Kabarett\, Hofgartenstraße 1a\, 63739\, Aschaffenburg
STATUS:CONFIRMED
URL:https://kulvio.de/event/3307
END:VEVENT
END:VCALENDAR
