BEGIN:VCALENDAR
VERSION:2.0
PRODID:-//Kulvio Event Calendar//kulvio.de//
CALSCALE:GREGORIAN
METHOD:PUBLISH
BEGIN:VEVENT
SUMMARY:The Magic Night Of Dance Musicals
DTSTART:20260430T173000Z
DTEND:20260430T200000Z
DTSTAMP:20260423T030033Z
UID:kulvio-event-3308@kulvio.de
CATEGORIES:Musical,Show
CREATED:20260422T083524Z
DESCRIPTION:Die Show The Magic Night Of Dance Musicals bringt die bekannte
 sten Musical-Tanzszenen auf die Bühne der Stadthalle am Schloss Aschaffen
 burg. Professionelle Tänzerinnen und Tänzer führen Highlights aus belie
 bten Broadway- und West-End-Produktionen auf. Die aufwendig inszenierte Sh
 ow verbindet Tanz\, Musik und Lichtdesign zu einem mitreißenden Bühnener
 lebnis.
GEO:49.976205;9.14419
LAST-MODIFIED:20260422T083647Z
LOCATION:Stadthalle am Schloss\, Schloßplatz 1\, 63739\, Aschaffenburg
STATUS:CONFIRMED
URL:https://kulvio.de/event/3308
END:VEVENT
END:VCALENDAR
