BEGIN:VCALENDAR
VERSION:2.0
PRODID:-//Kulvio Event Calendar//kulvio.de//
CALSCALE:GREGORIAN
METHOD:PUBLISH
BEGIN:VEVENT
SUMMARY:Norbert Meidhof – Letzte Chance – Die Generalprobe
DTSTART:20260501T180000Z
DTEND:20260501T200000Z
DTSTAMP:20260423T023439Z
UID:kulvio-event-3309@kulvio.de
CATEGORIES:Kabarett
CREATED:20260422T083524Z
DESCRIPTION:Der Kabarettist Norbert Meidhof präsentiert sein Programm Let
 zte Chance – Die Generalprobe im Hofgarten Kabarett Aschaffenburg. Als r
 egionale Kabarettgröße nimmt er das politische Tagesgeschehen und den fr
 änkischen Alltag humorvoll unter die Lupe. Das Hofgarten Kabarett ist sei
 t seiner Gründung durch Urban Priol eine feste Institution der deutschen 
 Kabarettszene.
GEO:49.974838;9.154287
LAST-MODIFIED:20260422T083647Z
LOCATION:Hofgarten Kabarett\, Hofgartenstraße 1a\, 63739\, Aschaffenburg
STATUS:CONFIRMED
URL:https://kulvio.de/event/3309
END:VEVENT
END:VCALENDAR
