BEGIN:VCALENDAR
VERSION:2.0
PRODID:-//Kulvio Event Calendar//kulvio.de//
CALSCALE:GREGORIAN
METHOD:PUBLISH
BEGIN:VEVENT
SUMMARY:Fiddler's Green – Acoustic Pub Crawl 2026
DTSTART:20260502T180000Z
DTEND:20260502T210000Z
DTSTAMP:20260423T023034Z
UID:kulvio-event-3310@kulvio.de
CATEGORIES:Konzert
CREATED:20260422T083524Z
DESCRIPTION:Die deutsche Irish-Speedfolk-Band Fiddler's Green feiert ihr 3
 5-jähriges Bühnenjubiläum mit der Acoustic Pub Crawl Tour und gastiert 
 im Colos-Saal Aschaffenburg. Als Support ist die Band RedWood dabei. Fiddl
 er's Green sind bekannt für ihre energiegeladene Mischung aus keltischem 
 Folk\, Punk und Rock. Das akustische Format verspricht eine besonders inti
 me Version ihrer Songs.
GEO:49.97585;9.149222
LAST-MODIFIED:20260422T083647Z
LOCATION:Colos-Saal\, Roßmarkt 19\, 63739\, Aschaffenburg
STATUS:CONFIRMED
URL:https://kulvio.de/event/3310
END:VEVENT
END:VCALENDAR
