BEGIN:VCALENDAR
VERSION:2.0
PRODID:-//Kulvio Event Calendar//kulvio.de//
CALSCALE:GREGORIAN
METHOD:PUBLISH
BEGIN:VEVENT
SUMMARY:Ingmar Stadelmann – Stadelmann liest Höcke
DTSTART:20260502T173300Z
DTEND:20260502T200000Z
DTSTAMP:20260423T023152Z
UID:kulvio-event-3311@kulvio.de
CATEGORIES:Kabarett,Lesung
CREATED:20260422T083524Z
DESCRIPTION:Der Satiriker Ingmar Stadelmann präsentiert seine satirische 
 Lesung aus den Werken des AfD-Politikers Björn Höcke im Hofgarten Kabare
 tt Aschaffenburg. Stadelmann analysiert und kommentiert die Texte mit scha
 rfem Humor und politischem Weitblick. Die ungewöhnliche Veranstaltung beg
 innt um 19:33 Uhr und verbindet Lesung mit satirischem Kommentar.
GEO:49.974838;9.154287
LAST-MODIFIED:20260422T083647Z
LOCATION:Hofgarten Kabarett\, Hofgartenstraße 1a\, 63739\, Aschaffenburg
STATUS:CONFIRMED
URL:https://kulvio.de/event/3311
END:VEVENT
END:VCALENDAR
