BEGIN:VCALENDAR
VERSION:2.0
PRODID:-//Kulvio Event Calendar//kulvio.de//
CALSCALE:GREGORIAN
METHOD:PUBLISH
BEGIN:VEVENT
SUMMARY:TINA – The Rock Legend
DTSTART:20260503T173000Z
DTEND:20260503T200000Z
DTSTAMP:20260423T022941Z
UID:kulvio-event-3312@kulvio.de
CATEGORIES:Show,Konzert
CREATED:20260422T083524Z
DESCRIPTION:Die Tribute-Show TINA – The Rock Legend würdigt das musikal
 ische Lebenswerk von Tina Turner in der Stadthalle am Schloss Aschaffenbur
 g. Mit Hits wie Simply The Best\, What's Love Got to Do with It und Proud 
 Mary werden die größten Erfolge der Rock-Legende auf die Bühne gebracht
 . Die aufwendige Produktion mit Live-Band und Tänzern verspricht einen mi
 treißenden Abend.
GEO:49.976205;9.14419
LAST-MODIFIED:20260422T083647Z
LOCATION:Stadthalle am Schloss\, Schloßplatz 1\, 63739\, Aschaffenburg
STATUS:CONFIRMED
URL:https://kulvio.de/event/3312
END:VEVENT
END:VCALENDAR
