BEGIN:VCALENDAR
VERSION:2.0
PRODID:-//Kulvio Event Calendar//kulvio.de//
CALSCALE:GREGORIAN
METHOD:PUBLISH
BEGIN:VEVENT
SUMMARY:King Buffalo – European Tour 2026
DTSTART:20260505T180000Z
DTEND:20260505T210000Z
DTSTAMP:20260423T022538Z
UID:kulvio-event-3313@kulvio.de
CATEGORIES:Konzert
CREATED:20260422T083524Z
DESCRIPTION:Die amerikanische Psychedelic-Rock-Band King Buffalo spielt im
  Colos-Saal Aschaffenburg im Rahmen ihrer Europatour 2026. Das Trio aus Ro
 chester\, New York\, verbindet schwere Riffs mit atmosphärischen Klanglan
 dschaften und hat sich in der internationalen Stoner- und Psych-Rock-Szene
  einen Namen gemacht. Fans von Bands wie All Them Witches oder Elder sollt
 en sich dieses Konzert nicht entgehen lassen.
GEO:49.97585;9.149222
LAST-MODIFIED:20260422T083647Z
LOCATION:Colos-Saal\, Roßmarkt 19\, 63739\, Aschaffenburg
STATUS:CONFIRMED
URL:https://kulvio.de/event/3313
END:VEVENT
END:VCALENDAR
