BEGIN:VCALENDAR
VERSION:2.0
PRODID:-//Kulvio Event Calendar//kulvio.de//
CALSCALE:GREGORIAN
METHOD:PUBLISH
BEGIN:VEVENT
SUMMARY:Thomas D & The KBCS – Neocortex Tour 2026
DTSTART:20260507T180000Z
DTEND:20260507T210000Z
DTSTAMP:20260423T023151Z
UID:kulvio-event-3314@kulvio.de
CATEGORIES:Konzert
CREATED:20260422T083524Z
DESCRIPTION:Thomas D\, bekannt als Mitglied der Fantastischen Vier\, tritt
  mit seiner Band The KBCS im Colos-Saal Aschaffenburg auf. Die Neocortex T
 our 2026 präsentiert sein aktuelles Soloprogramm\, das Hip-Hop-Elemente m
 it gesellschaftskritischen Texten verbindet. Thomas D zählt zu den präge
 nden Figuren des deutschen Hip-Hop und bringt seine jahrzehntelange Bühne
 nerfahrung mit.
GEO:49.97585;9.149222
LAST-MODIFIED:20260422T083647Z
LOCATION:Colos-Saal\, Roßmarkt 19\, 63739\, Aschaffenburg
STATUS:CONFIRMED
URL:https://kulvio.de/event/3314
END:VEVENT
END:VCALENDAR
