BEGIN:VCALENDAR
VERSION:2.0
PRODID:-//Kulvio Event Calendar//kulvio.de//
CALSCALE:GREGORIAN
METHOD:PUBLISH
BEGIN:VEVENT
SUMMARY:Tetra-Pack – Die Comedy-Show
DTSTART:20260507T180000Z
DTEND:20260507T200000Z
DTSTAMP:20260423T023154Z
UID:kulvio-event-3315@kulvio.de
CATEGORIES:Comedy
CREATED:20260422T083525Z
DESCRIPTION:Die Comedy-Show Tetra-Pack wird von Johannes Scherer moderiert
  und bringt verschiedene Comedians auf die Bühne des Hofgarten Kabarett A
 schaffenburg. Das Format bietet eine bunte Mischung aus Stand-up\, Kabaret
 t und spontanem Humor von wechselnden Gästen. Die Show ist ideal für all
 e\, die verschiedene Comedy-Stile an einem Abend erleben möchten.
GEO:49.974838;9.154287
LAST-MODIFIED:20260422T083647Z
LOCATION:Hofgarten Kabarett\, Hofgartenstraße 1a\, 63739\, Aschaffenburg
STATUS:CONFIRMED
URL:https://kulvio.de/event/3315
END:VEVENT
END:VCALENDAR
