BEGIN:VCALENDAR
VERSION:2.0
PRODID:-//Kulvio Event Calendar//kulvio.de//
CALSCALE:GREGORIAN
METHOD:PUBLISH
BEGIN:VEVENT
SUMMARY:The Chambers – Die Virtuosen aus Köln
DTSTART:20260510T150000Z
DTEND:20260510T170000Z
DTSTAMP:20260423T022943Z
UID:kulvio-event-3316@kulvio.de
CATEGORIES:Konzert
CREATED:20260422T083525Z
DESCRIPTION:Das Ensemble The Chambers gastiert im Ridingersaal von Schloss
  Johannisburg Aschaffenburg. Die Virtuosen aus Köln präsentieren klassis
 che Musik in einem modernen\, dynamischen Format und begeistern ihr Publik
 um mit virtuoser Spieltechnik und überraschenden Arrangements. Der histor
 ische Ridingersaal im Schloss Johannisburg bietet mit seiner barocken Arch
 itektur einen eindrucksvollen Rahmen für das Konzert.
GEO:49.975914;9.142459
LAST-MODIFIED:20260422T083647Z
LOCATION:Schloss Johannisburg\, Schloßplatz 4\, 63739\, Aschaffenburg
STATUS:CONFIRMED
URL:https://kulvio.de/event/3316
END:VEVENT
END:VCALENDAR
