BEGIN:VCALENDAR
VERSION:2.0
PRODID:-//Kulvio Event Calendar//kulvio.de//
CALSCALE:GREGORIAN
METHOD:PUBLISH
BEGIN:VEVENT
SUMMARY:Thilo Seibel – Deutschland überleben!
DTSTART:20260516T180000Z
DTEND:20260516T200000Z
DTSTAMP:20260423T023030Z
UID:kulvio-event-3317@kulvio.de
CATEGORIES:Kabarett
CREATED:20260422T083525Z
DESCRIPTION:Der politische Kabarettist Thilo Seibel präsentiert sein Prog
 ramm Deutschland überleben! im Hofgarten Kabarett Aschaffenburg. Seibel n
 immt die deutsche Politik und Gesellschaft mit scharfem Witz und pointiert
 er Analyse unter die Lupe. Sein Kabarett verbindet aktuelle Themen mit his
 torischen Bezügen und bietet einen unterhaltsamen Blick auf den Zustand d
 er Nation.
GEO:49.974838;9.154287
LAST-MODIFIED:20260422T083647Z
LOCATION:Hofgarten Kabarett\, Hofgartenstraße 1a\, 63739\, Aschaffenburg
STATUS:CONFIRMED
URL:https://kulvio.de/event/3317
END:VEVENT
END:VCALENDAR
