BEGIN:VCALENDAR
VERSION:2.0
PRODID:-//Kulvio Event Calendar//kulvio.de//
CALSCALE:GREGORIAN
METHOD:PUBLISH
BEGIN:VEVENT
SUMMARY:Osan Yaran – Aus Prinzip!
DTSTART:20260517T170000Z
DTEND:20260517T193000Z
DTSTAMP:20260423T022856Z
UID:kulvio-event-3318@kulvio.de
CATEGORIES:Comedy
CREATED:20260422T083525Z
DESCRIPTION:Der Comedian Osan Yaran bringt sein Programm Aus Prinzip! auf 
 die Bühne der Stadthalle Aschaffenburg. Yaran ist bekannt für seine auth
 entische Stand-up-Comedy\, die von seinen deutsch-türkischen Wurzeln\, de
 m Zusammenleben der Kulturen und alltäglichen Absurditäten erzählt. Mit
  Charme und Schlagfertigkeit nimmt er gesellschaftliche Konventionen aufs 
 Korn.
GEO:49.976205;9.14419
LAST-MODIFIED:20260422T083647Z
LOCATION:Stadthalle am Schloss\, Schloßplatz 1\, 63739\, Aschaffenburg
STATUS:CONFIRMED
URL:https://kulvio.de/event/3318
END:VEVENT
END:VCALENDAR
