BEGIN:VCALENDAR
VERSION:2.0
PRODID:-//Kulvio Event Calendar//kulvio.de//
CALSCALE:GREGORIAN
METHOD:PUBLISH
BEGIN:VEVENT
SUMMARY:Taj Farrant – Chapter One European Tour 2026
DTSTART:20260521T180000Z
DTEND:20260521T210000Z
DTSTAMP:20260423T030317Z
UID:kulvio-event-3319@kulvio.de
CATEGORIES:Konzert
CREATED:20260422T083525Z
DESCRIPTION:Der australische Gitarrist Taj Farrant gastiert im Colos-Saal 
 Aschaffenburg im Rahmen seiner Chapter One European Tour. Farrant wurde al
 s Wunderkind bekannt und begeistert mit seinem Blues- und Rock-Gitarrenspi
 el weit über sein junges Alter hinaus. Das Konzert im intimen Rahmen des 
 Colos-Saal bietet die Möglichkeit\, dieses außergewöhnliche Talent aus 
 nächster Nähe zu erleben.
GEO:49.97585;9.149222
LAST-MODIFIED:20260422T083647Z
LOCATION:Colos-Saal\, Roßmarkt 19\, 63739\, Aschaffenburg
STATUS:CONFIRMED
URL:https://kulvio.de/event/3319
END:VEVENT
END:VCALENDAR
