BEGIN:VCALENDAR
VERSION:2.0
PRODID:-//Kulvio Event Calendar//kulvio.de//
CALSCALE:GREGORIAN
METHOD:PUBLISH
BEGIN:VEVENT
SUMMARY:Stimmen – Gefühle – Musik
DTSTART:20260522T170000Z
DTEND:20260522T200000Z
DTSTAMP:20260423T023033Z
UID:kulvio-event-3320@kulvio.de
CATEGORIES:Konzert,Show
CREATED:20260422T083525Z
DESCRIPTION:Die Gala-Show Stimmen – Gefühle – Musik bringt bekannte S
 chlagerstars in die Stadthalle am Schloss Aschaffenburg. Mit dabei sind un
 ter anderem Jay Alexander\, Patrick Lindner\, Nadin Meypo und Kevin Pabst.
  Der Abend bietet eine Mischung aus bekannten Schlagerhits und emotionalen
  Balladen\, begleitet von einer Live-Band. Die Show richtet sich an Fans d
 eutschsprachiger Unterhaltungsmusik.
GEO:49.976205;9.14419
LAST-MODIFIED:20260422T083647Z
LOCATION:Stadthalle am Schloss\, Schloßplatz 1\, 63739\, Aschaffenburg
STATUS:CONFIRMED
URL:https://kulvio.de/event/3320
END:VEVENT
END:VCALENDAR
