BEGIN:VCALENDAR
VERSION:2.0
PRODID:-//Kulvio Event Calendar//kulvio.de//
CALSCALE:GREGORIAN
METHOD:PUBLISH
BEGIN:VEVENT
SUMMARY:Dave Weckl / Tom Kennedy Project
DTSTART:20260530T180000Z
DTEND:20260530T210000Z
DTSTAMP:20260423T022538Z
UID:kulvio-event-3321@kulvio.de
CATEGORIES:Konzert
CREATED:20260422T083525Z
DESCRIPTION:Der legendäre Jazz-Schlagzeuger Dave Weckl und Bassist Tom Ke
 nnedy treten mit ihrem gemeinsamen Projekt im Colos-Saal Aschaffenburg auf
 . Weckl gilt als einer der einflussreichsten Schlagzeuger der Jazzgeschich
 te und war unter anderem Teil der Chick Corea Elektric Band. Zusammen mit 
 Kennedy liefern die beiden Weltklasse-Musiker eine Meisterklasse in Jazz-F
 usion und Virtuosität.
GEO:49.97585;9.149222
LAST-MODIFIED:20260422T083647Z
LOCATION:Colos-Saal\, Roßmarkt 19\, 63739\, Aschaffenburg
STATUS:CONFIRMED
URL:https://kulvio.de/event/3321
END:VEVENT
END:VCALENDAR
