BEGIN:VCALENDAR
VERSION:2.0
PRODID:-//Kulvio Event Calendar//kulvio.de//
CALSCALE:GREGORIAN
METHOD:PUBLISH
BEGIN:VEVENT
SUMMARY:The Robert Cray Band – 2026 All Amped Up Tour
DTSTART:20260606T180000Z
DTEND:20260606T210000Z
DTSTAMP:20260423T025507Z
UID:kulvio-event-3322@kulvio.de
CATEGORIES:Konzert
CREATED:20260422T083525Z
DESCRIPTION:Der Blues-Gitarrist und Sänger Robert Cray kommt mit seiner B
 and im Rahmen der All Amped Up Tour in den Colos-Saal Aschaffenburg. Cray 
 ist fünffacher Grammy-Gewinner und einer der bedeutendsten Blues-Musiker 
 der Gegenwart. Seine Musik verbindet klassischen Blues mit Soul\, R&B und 
 Rock\, und seine einzigartige Gitarrenarbeit hat Generationen von Musikern
  beeinflusst.
GEO:49.97585;9.149222
LAST-MODIFIED:20260422T083647Z
LOCATION:Colos-Saal\, Roßmarkt 19\, 63739\, Aschaffenburg
STATUS:CONFIRMED
URL:https://kulvio.de/event/3322
END:VEVENT
END:VCALENDAR
