BEGIN:VCALENDAR
VERSION:2.0
PRODID:-//Kulvio Event Calendar//kulvio.de//
CALSCALE:GREGORIAN
METHOD:PUBLISH
BEGIN:VEVENT
SUMMARY:Bodo Bach – Das Guteste aus 20 Jahren
DTSTART:20260607T160000Z
DTEND:20260607T183000Z
DTSTAMP:20260423T022942Z
UID:kulvio-event-3323@kulvio.de
CATEGORIES:Comedy
CREATED:20260422T083525Z
DESCRIPTION:Der hessische Comedian Bodo Bach präsentiert sein Jubiläumsp
 rogramm Das Guteste aus 20 Jahren im Hofgarten Kabarett Aschaffenburg. In 
 seiner Best-of-Show vereint Bach die lustigsten Nummern aus zwei Jahrzehnt
 en Bühnenkarriere. Sein unverwechselbarer hessischer Humor und seine chao
 tische Bühnenpräsenz haben ihn zu einem der beliebtesten Comedians des R
 hein-Main-Gebiets gemacht.
GEO:49.974838;9.154287
LAST-MODIFIED:20260422T083647Z
LOCATION:Hofgarten Kabarett\, Hofgartenstraße 1a\, 63739\, Aschaffenburg
STATUS:CONFIRMED
URL:https://kulvio.de/event/3323
END:VEVENT
END:VCALENDAR
