BEGIN:VCALENDAR
VERSION:2.0
PRODID:-//Kulvio Event Calendar//kulvio.de//
CALSCALE:GREGORIAN
METHOD:PUBLISH
BEGIN:VEVENT
SUMMARY:Patrick Nederkoorn – Der fliehende Holländer
DTSTART:20260612T180000Z
DTEND:20260612T200000Z
DTSTAMP:20260423T023442Z
UID:kulvio-event-3324@kulvio.de
CATEGORIES:Comedy
CREATED:20260422T083525Z
DESCRIPTION:Der niederländische Comedian Patrick Nederkoorn bringt sein d
 eutschsprachiges Programm Der fliehende Holländer ins Hofgarten Kabarett 
 Aschaffenburg. Nederkoorn betrachtet Deutschland und die Deutschen aus der
  Perspektive eines Zugezogenen und findet in den kulturellen Unterschieden
  reichlich Stoff für Comedy. Sein charmanter Akzent und die frische Auße
 nsicht machen den Abend besonders unterhaltsam.
GEO:49.974838;9.154287
LAST-MODIFIED:20260422T083647Z
LOCATION:Hofgarten Kabarett\, Hofgartenstraße 1a\, 63739\, Aschaffenburg
STATUS:CONFIRMED
URL:https://kulvio.de/event/3324
END:VEVENT
END:VCALENDAR
