BEGIN:VCALENDAR
VERSION:2.0
PRODID:-//Kulvio Event Calendar//kulvio.de//
CALSCALE:GREGORIAN
METHOD:PUBLISH
BEGIN:VEVENT
SUMMARY:Die Sterne – Wenn Es Liebe Ist Tour
DTSTART:20260616T180000Z
DTEND:20260616T210000Z
DTSTAMP:20260423T030327Z
UID:kulvio-event-3325@kulvio.de
CATEGORIES:Konzert
CREATED:20260422T083525Z
DESCRIPTION:Die Hamburger Indie-Band Die Sterne gastiert auf ihrer Tour We
 nn Es Liebe Ist im Colos-Saal Aschaffenburg. Die Band zählt seit den 1990
 er Jahren zu den wichtigsten Vertretern des deutschen Indie-Pop und ist be
 kannt für ihre cleveren Texte und tanzbaren Arrangements. Fans deutschspr
 achiger Indie-Musik erwartet ein Konzert einer Band\, die die Szene maßge
 blich mitgeprägt hat.
GEO:49.97585;9.149222
LAST-MODIFIED:20260422T083647Z
LOCATION:Colos-Saal\, Roßmarkt 19\, 63739\, Aschaffenburg
STATUS:CONFIRMED
URL:https://kulvio.de/event/3325
END:VEVENT
END:VCALENDAR
