BEGIN:VCALENDAR
VERSION:2.0
PRODID:-//Kulvio Event Calendar//kulvio.de//
CALSCALE:GREGORIAN
METHOD:PUBLISH
BEGIN:VEVENT
SUMMARY:Welthits auf Hessisch – Mir schon widder
DTSTART:20260619T180000Z
DTEND:20260619T200000Z
DTSTAMP:20260423T023031Z
UID:kulvio-event-3326@kulvio.de
CATEGORIES:Kabarett,Comedy
CREATED:20260422T083525Z
DESCRIPTION:Die Musikcomedy-Show Welthits auf Hessisch bringt internationa
 le Hits in hessischer Mundart auf die Bühne des Hofgarten Kabarett Aschaf
 fenburg. Das Programm Mir schon widder verwandelt bekannte Pop- und Rockso
 ngs in urkomische hessische Versionen. Die Show verbindet Musiktalent mit 
 Comedy und ist ein Pflichttermin für Fans von Mundart-Humor und Musikparo
 dien.
GEO:49.974838;9.154287
LAST-MODIFIED:20260422T083647Z
LOCATION:Hofgarten Kabarett\, Hofgartenstraße 1a\, 63739\, Aschaffenburg
STATUS:CONFIRMED
URL:https://kulvio.de/event/3326
END:VEVENT
END:VCALENDAR
